BEGIN:VCALENDAR
VERSION:2.0
PRODID:-//time.you/holidays//NONSGML v1.0//EN
BEGIN:VEVENT
UID:3598e05f-2b2c-4fce-b569-3ab6776e8ce2
DTSTAMP:20260425T010433Z
DTSTART;VALUE=DATE:20210819
SUMMARY:Afghanistan Independence Day; Ashura (Afghanistan)
END:VEVENT
END:VCALENDAR