BEGIN:VCALENDAR
VERSION:2.0
PRODID:-//time.you/holidays//NONSGML v1.0//EN
BEGIN:VEVENT
UID:fd239a99-6034-4c25-b21f-9f34388b4033
DTSTAMP:20260420T120153Z
DTSTART;VALUE=DATE:20260819
SUMMARY:Afghanistan Independence Day (Afghanistan)
END:VEVENT
END:VCALENDAR