BEGIN:VCALENDAR
VERSION:2.0
PRODID:-//time.you/holidays//NONSGML v1.0//EN
BEGIN:VEVENT
UID:8eb66247-d1ea-4533-97f2-e7728638fdb2
DTSTAMP:20260421T223650Z
DTSTART;VALUE=DATE:20260831
SUMMARY:American Withdrawal Day (Afghanistan)
END:VEVENT
END:VCALENDAR