BEGIN:VCALENDAR
VERSION:2.0
PRODID:-//time.you/holidays//NONSGML v1.0//EN
BEGIN:VEVENT
UID:1f057996-e8cf-47f9-94bc-febc6151a6c3
DTSTAMP:20260420T104647Z
DTSTART;VALUE=DATE:20260527
SUMMARY:Eid al-Adha (estimated) (Afghanistan)
END:VEVENT
END:VCALENDAR