BEGIN:VCALENDAR
VERSION:2.0
PRODID:-//time.you/holidays//NONSGML v1.0//EN
BEGIN:VEVENT
UID:43aa4c37-2cef-419f-892e-306ecd8e9b6d
DTSTAMP:20260420T011456Z
DTSTART;VALUE=DATE:20250607
SUMMARY:Eid al-Adha (Afghanistan)
END:VEVENT
END:VCALENDAR