BEGIN:VCALENDAR
VERSION:2.0
PRODID:-//time.you/holidays//NONSGML v1.0//EN
BEGIN:VEVENT
UID:3bd87c45-27a6-433d-966e-8dd2debf65b4
DTSTAMP:20260424T230246Z
DTSTART;VALUE=DATE:20210501
SUMMARY:International Workers' Day (Afghanistan)
END:VEVENT
END:VCALENDAR