BEGIN:VCALENDAR
VERSION:2.0
PRODID:-//time.you/holidays//NONSGML v1.0//EN
BEGIN:VEVENT
UID:7433bedf-8cdd-4889-ba9a-00527cbaa41b
DTSTAMP:20260422T042619Z
DTSTART;VALUE=DATE:20260815
SUMMARY:Islamic Emirate Victory Day (Afghanistan)
END:VEVENT
END:VCALENDAR