BEGIN:VCALENDAR
VERSION:2.0
PRODID:-//time.you/holidays//NONSGML v1.0//EN
BEGIN:VEVENT
UID:d3b62ebb-7c8c-4bc5-a46c-75fafae5092a
DTSTAMP:20260422T111719Z
DTSTART;VALUE=DATE:20260215
SUMMARY:Liberation Day (Afghanistan)
END:VEVENT
END:VCALENDAR