BEGIN:VCALENDAR
VERSION:2.0
PRODID:-//time.you/holidays//NONSGML v1.0//EN
BEGIN:VEVENT
UID:dfd6ac0a-1e92-4d2a-ba53-3ea95b59a82e
DTSTAMP:20260420T125716Z
DTSTART;VALUE=DATE:20261031
SUMMARY:All Saints' Day (Åland Islands)
END:VEVENT
END:VCALENDAR