BEGIN:VCALENDAR
VERSION:2.0
PRODID:-//time.you/holidays//NONSGML v1.0//EN
BEGIN:VEVENT
UID:150ce02b-b6f4-4cc6-815b-726658d8360a
DTSTAMP:20260420T125726Z
DTSTART;VALUE=DATE:20260514
SUMMARY:Ascension Day (Åland Islands)
END:VEVENT
END:VCALENDAR