BEGIN:VCALENDAR
VERSION:2.0
PRODID:-//time.you/holidays//NONSGML v1.0//EN
BEGIN:VEVENT
UID:7a5dbe1b-6b60-405c-a019-1244382bf61e
DTSTAMP:20260420T154434Z
DTSTART;VALUE=DATE:20261225
SUMMARY:Christmas Day (Åland Islands)
END:VEVENT
END:VCALENDAR