BEGIN:VCALENDAR
VERSION:2.0
PRODID:-//time.you/holidays//NONSGML v1.0//EN
BEGIN:VEVENT
UID:2ab6f7e4-e3ce-4ac2-b374-c60e4197318e
DTSTAMP:20260421T210942Z
DTSTART;VALUE=DATE:20261224
SUMMARY:Christmas Eve (Åland Islands)
END:VEVENT
END:VCALENDAR