BEGIN:VCALENDAR
VERSION:2.0
PRODID:-//time.you/holidays//NONSGML v1.0//EN
BEGIN:VEVENT
UID:cdb51d54-0d2a-446e-8d47-a71c4b4e0ef0
DTSTAMP:20260419T233607Z
DTSTART;VALUE=DATE:20260405
SUMMARY:Easter Sunday (Åland Islands)
END:VEVENT
END:VCALENDAR