BEGIN:VCALENDAR
VERSION:2.0
PRODID:-//time.you/holidays//NONSGML v1.0//EN
BEGIN:VEVENT
UID:23504b8a-6ad8-4acf-86c9-d3533cd1d189
DTSTAMP:20260420T012601Z
DTSTART;VALUE=DATE:20261123
SUMMARY:Alphabet Day (observed) (Albania)
END:VEVENT
END:VCALENDAR