BEGIN:VCALENDAR
VERSION:2.0
PRODID:-//time.you/holidays//NONSGML v1.0//EN
BEGIN:VEVENT
UID:aa24f20e-3441-45d7-8942-411c87f80a0e
DTSTAMP:20260420T024709Z
DTSTART;VALUE=DATE:20260406
SUMMARY:Catholic Easter Sunday (observed) (Albania)
END:VEVENT
END:VCALENDAR