BEGIN:VCALENDAR
VERSION:2.0
PRODID:-//time.you/holidays//NONSGML v1.0//EN
BEGIN:VEVENT
UID:8a18e67c-7a92-4a36-92a2-ad0828521688
DTSTAMP:20260420T125931Z
DTSTART;VALUE=DATE:20271227
SUMMARY:Christmas Day (observed) (Albania)
END:VEVENT
END:VCALENDAR