BEGIN:VCALENDAR
VERSION:2.0
PRODID:-//time.you/holidays//NONSGML v1.0//EN
BEGIN:VEVENT
UID:6d4db913-5e43-4615-b537-08c07f364df6
DTSTAMP:20260422T114608Z
DTSTART;VALUE=DATE:20260527
SUMMARY:Eid al-Adha (estimated) (Albania)
END:VEVENT
END:VCALENDAR