BEGIN:VCALENDAR
VERSION:2.0
PRODID:-//time.you/holidays//NONSGML v1.0//EN
BEGIN:VEVENT
UID:49b477db-7d00-4713-89c0-ae9942704db3
DTSTAMP:20260420T011455Z
DTSTART;VALUE=DATE:20270517
SUMMARY:Eid al-Adha (observed, estimated) (Albania)
END:VEVENT
END:VCALENDAR