BEGIN:VCALENDAR
VERSION:2.0
PRODID:-//time.you/holidays//NONSGML v1.0//EN
BEGIN:VEVENT
UID:f61aefed-163f-4e51-a12a-5a9e63ec8e9a
DTSTAMP:20260421T235143Z
DTSTART;VALUE=DATE:20240617
SUMMARY:Eid al-Adha (observed) (Albania)
END:VEVENT
END:VCALENDAR