BEGIN:VCALENDAR
VERSION:2.0
PRODID:-//time.you/holidays//NONSGML v1.0//EN
BEGIN:VEVENT
UID:9749d591-1fe8-44c4-b1db-524e3874449c
DTSTAMP:20260421T183855Z
DTSTART;VALUE=DATE:20250606
SUMMARY:Eid al-Adha (Albania)
END:VEVENT
END:VCALENDAR