BEGIN:VCALENDAR
VERSION:2.0
PRODID:-//time.you/holidays//NONSGML v1.0//EN
BEGIN:VEVENT
UID:35ad2ac0-fa2d-4c4e-951b-ee98646ba329
DTSTAMP:20260421T233705Z
DTSTART;VALUE=DATE:20250330
SUMMARY:Eid al-Fitr (Albania)
END:VEVENT
END:VCALENDAR