BEGIN:VCALENDAR
VERSION:2.0
PRODID:-//time.you/holidays//NONSGML v1.0//EN
BEGIN:VEVENT
UID:5c425b30-0df2-4278-b483-3ac262c16273
DTSTAMP:20260420T120138Z
DTSTART;VALUE=DATE:20261128
SUMMARY:Flag and Independence Day (Albania)
END:VEVENT
END:VCALENDAR