BEGIN:VCALENDAR
VERSION:2.0
PRODID:-//time.you/holidays//NONSGML v1.0//EN
BEGIN:VEVENT
UID:d0038d02-291b-4edb-a855-c955e2345911
DTSTAMP:20260420T011159Z
DTSTART;VALUE=DATE:20270503
SUMMARY:International Workers' Day (observed) (Albania)
END:VEVENT
END:VCALENDAR