BEGIN:VCALENDAR
VERSION:2.0
PRODID:-//time.you/holidays//NONSGML v1.0//EN
BEGIN:VEVENT
UID:444e3ddf-bbbb-47e2-8733-6efa89330991
DTSTAMP:20260421T231248Z
DTSTART;VALUE=DATE:20261129
SUMMARY:Liberation Day (Albania)
END:VEVENT
END:VCALENDAR