BEGIN:VCALENDAR
VERSION:2.0
PRODID:-//time.you/holidays//NONSGML v1.0//EN
BEGIN:VEVENT
UID:37e0e77d-e837-4886-88c8-e3ec87bbf2e6
DTSTAMP:20260424T150203Z
DTSTART;VALUE=DATE:20260905
SUMMARY:Mother Teresa Canonization Day (Albania)
END:VEVENT
END:VCALENDAR