BEGIN:VCALENDAR
VERSION:2.0
PRODID:-//time.you/holidays//NONSGML v1.0//EN
BEGIN:VEVENT
UID:b9b3b379-5cdf-4d28-a978-5fe8f019e68c
DTSTAMP:20260420T011317Z
DTSTART;VALUE=DATE:20270104
SUMMARY:New Year's Day (observed) (Albania)
END:VEVENT
END:VCALENDAR