BEGIN:VCALENDAR
VERSION:2.0
PRODID:-//time.you/holidays//NONSGML v1.0//EN
BEGIN:VEVENT
UID:221df037-faf5-48b2-90d6-af94a61740ea
DTSTAMP:20260422T130828Z
DTSTART;VALUE=DATE:20260323
SUMMARY:Nowruz Day (observed) (Albania)
END:VEVENT
END:VCALENDAR