BEGIN:VCALENDAR
VERSION:2.0
PRODID:-//time.you/holidays//NONSGML v1.0//EN
BEGIN:VEVENT
UID:52f02731-741b-48c4-8d9b-3f6686f1058a
DTSTAMP:20260422T100538Z
DTSTART;VALUE=DATE:20260413
SUMMARY:Orthodox Easter Sunday (observed) (Albania)
END:VEVENT
END:VCALENDAR