BEGIN:VCALENDAR
VERSION:2.0
PRODID:-//time.you/holidays//NONSGML v1.0//EN
BEGIN:VEVENT
UID:69615c88-ed51-463f-a5f0-a43d4d0aeb84
DTSTAMP:20260421T124656Z
DTSTART;VALUE=DATE:20240315
SUMMARY:Public Holiday (Albania)
END:VEVENT
END:VCALENDAR