BEGIN:VCALENDAR
VERSION:2.0
PRODID:-//time.you/holidays//NONSGML v1.0//EN
BEGIN:VEVENT
UID:68934e8e-b747-41f3-8bd2-fb56021d181b
DTSTAMP:20260420T132401Z
DTSTART;VALUE=DATE:20260314
SUMMARY:Summer Day (Albania)
END:VEVENT
END:VCALENDAR