BEGIN:VCALENDAR
VERSION:2.0
PRODID:-//time.you/holidays//NONSGML v1.0//EN
BEGIN:VEVENT
UID:d0698d44-95bb-4b8d-9688-69776876b8ac
DTSTAMP:20260421T155105Z
DTSTART;VALUE=DATE:20260112
SUMMARY:Amazigh New Year (Algeria)
END:VEVENT
END:VCALENDAR