BEGIN:VCALENDAR
VERSION:2.0
PRODID:-//time.you/holidays//NONSGML v1.0//EN
BEGIN:VEVENT
UID:338d6fae-c97c-4a23-a504-46031ee0dd3f
DTSTAMP:20260419T233614Z
DTSTART;VALUE=DATE:20260527
SUMMARY:Eid al-Adha (estimated) (Algeria)
END:VEVENT
END:VCALENDAR