BEGIN:VCALENDAR
VERSION:2.0
PRODID:-//time.you/holidays//NONSGML v1.0//EN
BEGIN:VEVENT
UID:b578e744-7f43-4502-b70f-c40a3d7687ea
DTSTAMP:20260421T203129Z
DTSTART;VALUE=DATE:20260320
SUMMARY:Eid al-Fitr (estimated) (Algeria)
END:VEVENT
END:VCALENDAR