BEGIN:VCALENDAR
VERSION:2.0
PRODID:-//time.you/holidays//NONSGML v1.0//EN
BEGIN:VEVENT
UID:109d9f7d-5fd3-42ba-a111-9538e1018ccd
DTSTAMP:20260421T013148Z
DTSTART;VALUE=DATE:20260705
SUMMARY:Independence Day (Algeria)
END:VEVENT
END:VCALENDAR