BEGIN:VCALENDAR
VERSION:2.0
PRODID:-//time.you/holidays//NONSGML v1.0//EN
BEGIN:VEVENT
UID:5f873ac0-fcde-47cc-ba2f-71cf688d299e
DTSTAMP:20260424T021149Z
DTSTART;VALUE=DATE:20260501
SUMMARY:Labor Day (Algeria)
END:VEVENT
END:VCALENDAR