BEGIN:VCALENDAR
VERSION:2.0
PRODID:-//time.you/holidays//NONSGML v1.0//EN
BEGIN:VEVENT
UID:d2e5c56e-ad1a-49d3-a799-af508a8734e9
DTSTAMP:20260421T203324Z
DTSTART;VALUE=DATE:20271224
SUMMARY:Christmas Day (observed) (American Samoa)
END:VEVENT
END:VCALENDAR