BEGIN:VCALENDAR
VERSION:2.0
PRODID:-//time.you/holidays//NONSGML v1.0//EN
BEGIN:VEVENT
UID:ad811f12-4765-4370-bc5a-5329dd51711a
DTSTAMP:20260421T133519Z
DTSTART;VALUE=DATE:20260703
SUMMARY:Independence Day (observed) (American Samoa)
END:VEVENT
END:VCALENDAR