BEGIN:VCALENDAR
VERSION:2.0
PRODID:-//time.you/holidays//NONSGML v1.0//EN
BEGIN:VEVENT
UID:34b16192-7029-424d-8983-7ec6f187815e
DTSTAMP:20260421T204812Z
DTSTART;VALUE=DATE:20270618
SUMMARY:Juneteenth National Independence Day (observed) (American Samoa)
END:VEVENT
END:VCALENDAR