BEGIN:VCALENDAR
VERSION:2.0
PRODID:-//time.you/holidays//NONSGML v1.0//EN
BEGIN:VEVENT
UID:b3e56cd1-ec61-4d2e-8d29-56c1ec14e3be
DTSTAMP:20260422T052721Z
DTSTART;VALUE=DATE:20260619
SUMMARY:Juneteenth National Independence Day (American Samoa)
END:VEVENT
END:VCALENDAR