BEGIN:VCALENDAR
VERSION:2.0
PRODID:-//time.you/holidays//NONSGML v1.0//EN
BEGIN:VEVENT
UID:df2ed1fe-62d1-4cc6-86d1-ac2357f34db4
DTSTAMP:20260421T125340Z
DTSTART;VALUE=DATE:20271231
SUMMARY:New Year's Day (observed) (American Samoa)
END:VEVENT
END:VCALENDAR