BEGIN:VCALENDAR
VERSION:2.0
PRODID:-//time.you/holidays//NONSGML v1.0//EN
BEGIN:VEVENT
UID:2adc1d9e-acf1-4dbc-aa30-3c20eb56ffdf
DTSTAMP:20260420T124448Z
DTSTART;VALUE=DATE:20261126
SUMMARY:Thanksgiving Day (American Samoa)
END:VEVENT
END:VCALENDAR