BEGIN:VCALENDAR
VERSION:2.0
PRODID:-//time.you/holidays//NONSGML v1.0//EN
BEGIN:VEVENT
UID:b0077361-e959-4d84-b8ee-828cf39d19a8
DTSTAMP:20260421T130845Z
DTSTART;VALUE=DATE:20261111
SUMMARY:Veterans Day (American Samoa)
END:VEVENT
END:VCALENDAR