BEGIN:VCALENDAR
VERSION:2.0
PRODID:-//time.you/holidays//NONSGML v1.0//EN
BEGIN:VEVENT
UID:343cfdba-5bd3-4323-83c5-518dd843184b
DTSTAMP:20260424T170854Z
DTSTART;VALUE=DATE:20260216
SUMMARY:Washington's Birthday (American Samoa)
END:VEVENT
END:VCALENDAR