BEGIN:VCALENDAR
VERSION:2.0
PRODID:-//time.you/holidays//NONSGML v1.0//EN
BEGIN:VEVENT
UID:9b6c4e4d-26d4-4ed5-bc74-3d47f79b7b49
DTSTAMP:20260421T225803Z
DTSTART;VALUE=DATE:20261011
SUMMARY:White Sunday (American Samoa)
END:VEVENT
END:VCALENDAR