BEGIN:VCALENDAR
VERSION:2.0
PRODID:-//time.you/holidays//NONSGML v1.0//EN
BEGIN:VEVENT
UID:f341494b-2413-4463-994c-d91e27f5d93d
DTSTAMP:20260420T162112Z
DTSTART;VALUE=DATE:20260815
SUMMARY:Assumption Day (Andorra)
END:VEVENT
END:VCALENDAR