BEGIN:VCALENDAR
VERSION:2.0
PRODID:-//time.you/holidays//NONSGML v1.0//EN
BEGIN:VEVENT
UID:a368aa77-3489-4814-9871-89bc05c7bace
DTSTAMP:20260420T184308Z
DTSTART;VALUE=DATE:20260314
SUMMARY:Constitution Day (Andorra)
END:VEVENT
END:VCALENDAR