BEGIN:VCALENDAR
VERSION:2.0
PRODID:-//time.you/holidays//NONSGML v1.0//EN
BEGIN:VEVENT
UID:22cf2005-9364-4674-893e-6516d7cd0119
DTSTAMP:20260420T195612Z
DTSTART;VALUE=DATE:20260501
SUMMARY:Labor Day (Andorra)
END:VEVENT
END:VCALENDAR