BEGIN:VCALENDAR
VERSION:2.0
PRODID:-//time.you/holidays//NONSGML v1.0//EN
BEGIN:VEVENT
UID:ddf25ce2-f7e6-4005-8921-7b9c7e796b41
DTSTAMP:20260420T062516Z
DTSTART;VALUE=DATE:20260908
SUMMARY:Our Lady of Meritxell (Andorra)
END:VEVENT
END:VCALENDAR