BEGIN:VCALENDAR
VERSION:2.0
PRODID:-//time.you/holidays//NONSGML v1.0//EN
BEGIN:VEVENT
UID:cef443fc-62f2-4f54-8757-3a2164e524bf
DTSTAMP:20260424T143615Z
DTSTART;VALUE=DATE:20260816
SUMMARY:Saint Roch's Day (Andorra)
END:VEVENT
END:VCALENDAR