BEGIN:VCALENDAR
VERSION:2.0
PRODID:-//time.you/holidays//NONSGML v1.0//EN
BEGIN:VEVENT
UID:7a700b28-3b4f-4f54-a93a-ce0a50ac455b
DTSTAMP:20260420T113755Z
DTSTART;VALUE=DATE:20260530
SUMMARY:Virgin Mary of Canòlich (Andorra)
END:VEVENT
END:VCALENDAR